BEGIN:VCALENDAR
PRODID:-//hacksw/handcal//NONSGML v1.0//EN
BEGIN:VEVENT
DTSTART;TZID=America/New_York:20201029T180000
DTEND;TZID=America/New_York:20201029T190000
LOCATION:
SUMMARY:A Private Virtual Tour of the Barnes Museum
DESCRIPTION:Enjoy the famed Barnes Museum from home! Join fellow BGS Alums for a private one-hour virtual tour of the Barnes Collection. See paintings and objects closer than ever before! 
METHOD:PUBLISH
END:VEVENT
END:VCALENDAR
